BEGIN:VCALENDAR
PRODID:-//kirchenweb.ch gmbh//veranstaltungsausgabe v2.0//DE
VERSION:2.0
METHOD:PUBLISH
BEGIN:VEVENT
DTSTART:20240324T090000Z
DTEND:20240324T100000Z
LOCATION:Haute-Birse\, Eglise de Chaindon\, Route de Chaindon\, 2732
  Reconvilier
TRANSP:OPAQUE
SEQUENCE:0
UID:9586-veranstaltung@par8.ch
DTSTAMP:20240315T074252Z
DESCRIPTION:Culte des Rameaux avec la participation des enfants du cycle I
 \n\nKontakt: Thierry Dominicé\n\nWeitere Infos:
  https://www.par8.ch/veranstaltung/9586
SUMMARY:Culte  du cycle 1 à l'église de Chaindon
PRIORITY:5
X-MICROSOFT-CDO-IMPORTANCE:1
CLASS:PUBLIC
END:VEVENT
END:VCALENDAR
