BEGIN:VCALENDAR
PRODID:-//kirchenweb.ch gmbh//veranstaltungsausgabe v2.0//DE
VERSION:2.0
METHOD:PUBLISH
BEGIN:VEVENT
DTSTART:20240324T090000Z
DTEND:20240324T100000Z
LOCATION:Court\, Eglise\, Rue du Temple\, 2738 Court
TRANSP:OPAQUE
SEQUENCE:0
UID:9585-veranstaltung@par8.ch
DTSTAMP:20240322T111948Z
DESCRIPTION:Kontakt: \n\nWeitere Infos:
  https://www.par8.ch/veranstaltung/9585
SUMMARY:Culte du cycle 1 au temple de Court
PRIORITY:5
X-MICROSOFT-CDO-IMPORTANCE:1
CLASS:PUBLIC
END:VEVENT
END:VCALENDAR
