BEGIN:VCALENDAR
PRODID:-//kirchenweb.ch gmbh//veranstaltungsausgabe v2.0//DE
VERSION:2.0
METHOD:PUBLISH
BEGIN:VEVENT
DTSTART:20240317T090000Z
DTEND:20240317T100000Z
LOCATION:Bévilard\, Temple\, Rue du Temple\, 2735 Bévilard
TRANSP:OPAQUE
SEQUENCE:0
UID:9582-veranstaltung@par8.ch
DTSTAMP:20240205T142734Z
DESCRIPTION:Kontakt: Jean-Luc Dubigny\n\nWeitere Infos:
  https://www.par8.ch/veranstaltung/9582
SUMMARY:Culte au temple de Bévilard
PRIORITY:5
X-MICROSOFT-CDO-IMPORTANCE:1
CLASS:PUBLIC
END:VEVENT
END:VCALENDAR
