BEGIN:VCALENDAR
PRODID:-//kirchenweb.ch gmbh//veranstaltungsausgabe v2.0//DE
VERSION:2.0
METHOD:PUBLISH
BEGIN:VEVENT
DTSTART:20240317T090000Z
DTEND:20240317T100000Z
LOCATION:Tramelan\, Eglise\, Grand-Rue 146\, 2720 Tramelan
TRANSP:OPAQUE
SEQUENCE:0
UID:9580-veranstaltung@par8.ch
DTSTAMP:20240213T084746Z
DESCRIPTION:Kontakt: Service de taxi : 079 825 56 14  (appel le dimanche
  matin entre 8h et 9h)\n\nWeitere Infos:
  https://www.par8.ch/veranstaltung/9580
SUMMARY:Culte à l'église de Tramelan
PRIORITY:5
X-MICROSOFT-CDO-IMPORTANCE:1
CLASS:PUBLIC
END:VEVENT
END:VCALENDAR
