BEGIN:VCALENDAR
PRODID:-//kirchenweb.ch gmbh//veranstaltungsausgabe v2.0//DE
VERSION:2.0
METHOD:PUBLISH
BEGIN:VEVENT
DTSTART:20240310T090000Z
DTEND:20240310T100000Z
LOCATION:Tramelan\, Eglise\, Grand-Rue 146\, 2720 Tramelan
TRANSP:OPAQUE
SEQUENCE:0
UID:9579-veranstaltung@par8.ch
DTSTAMP:20240111T063022Z
DESCRIPTION:Kontakt: Service de taxi depuis Tramelan : 076 586 12 16 
  (appel le dimanche matin entre 8h et 9h)\n\nWeitere Infos:
  https://www.par8.ch/veranstaltung/9579
SUMMARY:Culte Par8 Terre Nouvelle
PRIORITY:5
X-MICROSOFT-CDO-IMPORTANCE:1
CLASS:PUBLIC
END:VEVENT
END:VCALENDAR
