BEGIN:VCALENDAR
PRODID:-//kirchenweb.ch gmbh//veranstaltungsausgabe v2.0//DE
VERSION:2.0
METHOD:PUBLISH
BEGIN:VEVENT
DTSTART:20240316T190000Z
DTEND:20240316T200000Z
LOCATION:Tramelan\, Eglise\, Grand-Rue 146\, 2720 Tramelan
TRANSP:OPAQUE
SEQUENCE:0
UID:9513-veranstaltung@par8.ch
DTSTAMP:20240301T103608Z
DESCRIPTION:Kontakt: Eddy von Allmen\, 079 213 95 52\n\nWeitere Infos:
  https://www.par8.ch/veranstaltung/9513
SUMMARY:Ensemble Vocal d'Erguël - Concert
PRIORITY:5
X-MICROSOFT-CDO-IMPORTANCE:1
CLASS:PUBLIC
END:VEVENT
END:VCALENDAR
