BEGIN:VCALENDAR
PRODID:-//kirchenweb.ch gmbh//veranstaltungsausgabe v2.0//DE
VERSION:2.0
METHOD:PUBLISH
BEGIN:VEVENT
DTSTART:20240321T170000Z
DTEND:20240321T190000Z
LOCATION:Bévilard\, Le Carillon\, Grand Rue\, 2735 Malleray
TRANSP:OPAQUE
SEQUENCE:0
UID:9202-veranstaltung@par8.ch
DTSTAMP:20240319T082642Z
DESCRIPTION:Information\nPique-nique à prendre avec\n\nAbsences\nEn cas
  d'absence\, merci d'avertir l'un des responsables\n\nKontakt: Quentin
  Jeanneret\n\nWeitere Infos: https://www.par8.ch/veranstaltung/9202
SUMMARY:Module de confirmation
PRIORITY:5
X-MICROSOFT-CDO-IMPORTANCE:1
CLASS:PUBLIC
END:VEVENT
END:VCALENDAR
