BEGIN:VCALENDAR
PRODID:-//kirchenweb.ch gmbh//veranstaltungsausgabe v2.0//DE
VERSION:2.0
METHOD:PUBLISH
BEGIN:VEVENT
DTSTART:20240312T183000Z
DTEND:20240312T200000Z
LOCATION:Bévilard\, Salle de Paroisse\, Les Côtes 1\, 2735 Bévilard
TRANSP:OPAQUE
SEQUENCE:0
UID:9201-veranstaltung@par8.ch
DTSTAMP:20240310T162104Z
DESCRIPTION:Information\nIl s'agit d'une rencontre à destination des
  parents\n\nAu programme\n- Retour sur le projet pilote en catéchèse\n-
  Information et discussion autour du module de confirmation\n- Discussion
  du culte de confirmations\n\nKontakt: Quentin Jeanneret\n\nWeitere Infos:
  https://www.par8.ch/veranstaltung/9201
SUMMARY:Module de confirmation - rencontre pour les parents
PRIORITY:5
X-MICROSOFT-CDO-IMPORTANCE:1
CLASS:PUBLIC
END:VEVENT
END:VCALENDAR
