BEGIN:VCALENDAR
PRODID:-//kirchenweb.ch gmbh//veranstaltungsausgabe v2.0//DE
VERSION:2.0
METHOD:PUBLISH
BEGIN:VEVENT
DTSTART:20240308T173000Z
DTEND:20240308T203000Z
LOCATION:Haute-Birse\, Salle de Paroisse\, Rue Bel-Air 11\, 2732
  Reconvilier
TRANSP:OPAQUE
SEQUENCE:0
UID:9166-veranstaltung@par8.ch
DTSTAMP:20230714T071610Z
DESCRIPTION:Thème: Rôle du mono KT\n\nKontakt: Quentin Jeanneret\n\n
 \nWeitere Infos: https://www.par8.ch/veranstaltung/9166
SUMMARY:Formation mono KT 2023-2024
PRIORITY:5
X-MICROSOFT-CDO-IMPORTANCE:1
CLASS:PUBLIC
END:VEVENT
END:VCALENDAR
