BEGIN:VCALENDAR
PRODID:-//kirchenweb.ch gmbh//veranstaltungsausgabe v2.0//DE
VERSION:2.0
METHOD:PUBLISH
BEGIN:VEVENT
DTSTART:20240327T150000Z
DTEND:20240327T170000Z
LOCATION:Haute-Birse\, Maison de Paroisse de Tavannes\, Rue du Petit-Bâle
  25\, 2710 Tavannes
TRANSP:OPAQUE
SEQUENCE:0
UID:8698-veranstaltung@par8.ch
DTSTAMP:20230222T092142Z
DESCRIPTION:ABSENCES :\nEn cas d’absence\, MERCI d’avertir l’une des
  responsables (contacts ci-dessous)\nCOLLATION :\nChacune des rencontres
  débute par un temps de collation qui sera\npréparée par nos soins.
  Merci de nous communiquer les éventuelles\nallergies.\n\nNous sommes
  disponibles par téléphone en cas de question. Nous apprécions
 \nparticulièrement un SMS ou un coup de fil en cas d’absence. Merci ;-)
 \n\nKontakt: Céline Ryf\, celine.ryf@par8.ch\, 076 436 60 65\nou\n\n
 \nWeitere Infos: https://www.par8.ch/veranstaltung/8698
SUMMARY:Catéchisme 8H haut
PRIORITY:5
X-MICROSOFT-CDO-IMPORTANCE:1
CLASS:PUBLIC
END:VEVENT
END:VCALENDAR
