BEGIN:VCALENDAR
PRODID:-//kirchenweb.ch gmbh//veranstaltungsausgabe v2.0//DE
VERSION:2.0
METHOD:PUBLISH
BEGIN:VEVENT
DTSTART:20230214T090000Z
DTEND:20230214T110000Z
LOCATION:Sornetan\, Salle de Paroisse\, Le Rondez 7\, 2716 Sornetan
TRANSP:OPAQUE
SEQUENCE:0
UID:8651-veranstaltung@par8.ch
DTSTAMP:20230213T093332Z
DESCRIPTION:Kontakt: Irène Bickel\n\nWeitere Infos:
  https://www.par8.ch/veranstaltung/8651
SUMMARY:Atelier cours de langue
PRIORITY:5
X-MICROSOFT-CDO-IMPORTANCE:1
CLASS:PUBLIC
END:VEVENT
END:VCALENDAR
