BEGIN:VCALENDAR
PRODID:-//kirchenweb.ch gmbh//veranstaltungsausgabe v2.0//DE
VERSION:2.0
METHOD:PUBLISH
BEGIN:VEVENT
DTSTART:20230207T190000Z
DTEND:20230207T210000Z
LOCATION:Haute-Birse\, Maison de Paroisse de Tavannes\, \,
TRANSP:OPAQUE
SEQUENCE:0
UID:8625-veranstaltung@par8.ch
DTSTAMP:20230207T100744Z
DESCRIPTION:Kontakt: Mme Monique Lehmann\n078 822 07 94\n\nWeitere Infos:
  https://www.par8.ch/veranstaltung/8625
SUMMARY:Haute-Birse\, groupe biblique de Tavannes
PRIORITY:5
X-MICROSOFT-CDO-IMPORTANCE:1
CLASS:PUBLIC
END:VEVENT
END:VCALENDAR
