BEGIN:VCALENDAR
PRODID:-//kirchenweb.ch gmbh//veranstaltungsausgabe v2.0//DE
VERSION:2.0
METHOD:PUBLISH
BEGIN:VEVENT
DTSTART:20230208T183000Z
DTEND:20230208T210000Z
LOCATION:Sornetan\, Salle de Paroisse\, Le Rondez 7\, 2716 Sornetan
TRANSP:OPAQUE
SEQUENCE:0
UID:8603-veranstaltung@par8.ch
DTSTAMP:20230206T122756Z
DESCRIPTION:Kontakt: Irène Liechti\n\nWeitere Infos:
  https://www.par8.ch/veranstaltung/8603
SUMMARY:Rencontre Commission SCLT
PRIORITY:5
X-MICROSOFT-CDO-IMPORTANCE:1
CLASS:PUBLIC
END:VEVENT
END:VCALENDAR
