BEGIN:VCALENDAR
PRODID:-//kirchenweb.ch gmbh//veranstaltungsausgabe v2.0//DE
VERSION:2.0
METHOD:PUBLISH
BEGIN:VEVENT
DTSTART:20230206T083000Z
DTEND:20230206T090000Z
LOCATION:Tramelan\, Eglise\, Grand-Rue 146\, 2720 Tramelan
TRANSP:OPAQUE
SEQUENCE:0
UID:8576-veranstaltung@par8.ch
DTSTAMP:20230204T150225Z
DESCRIPTION:Tout au long de cette année ecclésiastique\, le conseil de
  paroisse de Tramelan vous offre en plus de ses cultes ordinaires et
  autres activités cultuelles et culturelles\, une période de
  ressourcement spirituel à l'église. Il s’agit d’un mini office
  méditatif d’une trentaine de minutes qui vous permettra de remettre le
  mois à venir entre les mains de notre Seigneur. Cet office est suivi
  d’un partage autour d’une tasse de café. Vous êtes toutes et tous
  les bienvenues.\n\nKontakt: Jean Lesort Louck Talom\n\nWeitere Infos:
  https://www.par8.ch/veranstaltung/8576
SUMMARY:Café spirituel mensuel
PRIORITY:5
X-MICROSOFT-CDO-IMPORTANCE:1
CLASS:PUBLIC
END:VEVENT
END:VCALENDAR
