BEGIN:VCALENDAR
PRODID:-//kirchenweb.ch gmbh//veranstaltungsausgabe v2.0//DE
VERSION:2.0
METHOD:PUBLISH
BEGIN:VEVENT
DTSTART:20240327T133000Z
DTEND:20240327T153000Z
LOCATION:Tramelan\, Centre paroissial\, Grand-Rue 146a\, 2720 Tramelan
TRANSP:OPAQUE
SEQUENCE:0
UID:8560-veranstaltung@par8.ch
DTSTAMP:20240925T072903Z
DESCRIPTION:Des moments de partage et de convivialité animés par
  différents intervenants et qui se termine par le partage d'une
  collation.\nLes présences sont libres\, et ce n'est pas parce que l'on y
  vient une fois que l'on est tenu d'y revenir à chaque fois.\n\nKontakt:
  Thérèse Schmid\n032 487 53 16\n\nWeitere Infos:
  https://www.par8.ch/veranstaltung/8560
SUMMARY:Rencontre œcuménique des aînés - Tramelan
PRIORITY:5
X-MICROSOFT-CDO-IMPORTANCE:1
CLASS:PUBLIC
END:VEVENT
END:VCALENDAR
