BEGIN:VCALENDAR
PRODID:-//kirchenweb.ch gmbh//veranstaltungsausgabe v2.0//DE
VERSION:2.0
METHOD:PUBLISH
BEGIN:VEVENT
DTSTART:20230207T125000Z
DTEND:20230207T135000Z
LOCATION:Sornetan\, Salle de Paroisse\, Le Rondez 7\, 2716 Sornetan
TRANSP:OPAQUE
SEQUENCE:0
UID:8500-veranstaltung@par8.ch
DTSTAMP:20230202T102905Z
DESCRIPTION:Kontakt: Jacqueline Jegerlehner-Gueissaz\n\nWeitere Infos:
  https://www.par8.ch/veranstaltung/8500
SUMMARY:Gym Pro-Senectute Sornetan
PRIORITY:5
X-MICROSOFT-CDO-IMPORTANCE:1
CLASS:PUBLIC
END:VEVENT
END:VCALENDAR
