BEGIN:VCALENDAR
PRODID:-//kirchenweb.ch gmbh//veranstaltungsausgabe v2.0//DE
VERSION:2.0
METHOD:PUBLISH
BEGIN:VEVENT
DTSTART:20230207T183000Z
DTEND:20230207T200000Z
LOCATION:Maison de paroisse de Grandval\, Rue de l'Eglise 13\, 2745
  Grandval
TRANSP:OPAQUE
SEQUENCE:0
UID:8462-veranstaltung@par8.ch
DTSTAMP:20230125T101224Z
DESCRIPTION:Ces Psaumes qui nous font vivre et prier\n\nKontakt: Liliane
  Gujer\n\nWeitere Infos: https://www.par8.ch/veranstaltung/8462
SUMMARY:Grandval\, étude biblique
PRIORITY:5
X-MICROSOFT-CDO-IMPORTANCE:1
CLASS:PUBLIC
END:VEVENT
END:VCALENDAR
