BEGIN:VCALENDAR
PRODID:-//kirchenweb.ch gmbh//veranstaltungsausgabe v2.0//DE
VERSION:2.0
METHOD:PUBLISH
BEGIN:VEVENT
DTSTART:20230131T190000Z
DTEND:20230131T200000Z
LOCATION:Cinématographe\, Tramelan\, Rue du Cinéma 1\, 2720 Tramelan
TRANSP:OPAQUE
SEQUENCE:0
UID:8263-veranstaltung@par8.ch
DTSTAMP:20230112T153654Z
DESCRIPTION:Synopsis\n\nMarianne Winckler\, une écrivaine connue\,
  décide d’écrire un livre sur le travail précaire en vivant
  concrètement cette réalité. Elle se retrouve femme de ménage et
  découvre la vie à quelques euros près\, la condition d’invisible de
  la société. C’est une épreuve\, mais pas seulement\, car au fil de
  son immersion elle noue des vrais liens\, des liens chaleureux et même
  joyeux avec quelques-unes de ses compagnes de galère. De l’entraide
  naît l’amitié\, de l’amitié la confiance. Mais que devient-elle\,
  cette confiance\, quand éclate la vérité ?  \n\nLibrement adapté du
  livre de Florence Aubenas  "Le Quai de Ouistreham“\, le film
  d’Emmanuel Carrère a fait l’ouverture de la Quinzaine des
  Réalisateurs à Cannes 2021\n\nKontakt: Françoise Surdez\n\nWeitere
  Infos: https://www.par8.ch/veranstaltung/8263
SUMMARY:Ciné-Spirit - Ouistreham
PRIORITY:5
X-MICROSOFT-CDO-IMPORTANCE:1
CLASS:PUBLIC
END:VEVENT
END:VCALENDAR
