BEGIN:VCALENDAR
PRODID:-//kirchenweb.ch gmbh//veranstaltungsausgabe v2.0//DE
VERSION:2.0
METHOD:PUBLISH
BEGIN:VEVENT
DTSTART:20230131T183000Z
DTEND:20230131T191500Z
LOCATION:Tramelan\, Eglise catholique\, Grand-Rue 110\, 2720 Tramelan
TRANSP:OPAQUE
SEQUENCE:0
UID:8253-veranstaltung@par8.ch
DTSTAMP:20230927T053734Z
DESCRIPTION:Une parenthèse en chant et en silence pour se ressourcer dans
  la communion avec les chrétiens de Tramelan.\n\n\nKontakt: Valentin dos
  Santos\, 079 936 97 75\n\nWeitere Infos:
  https://www.par8.ch/veranstaltung/8253
SUMMARY:Prière à la manière de Taizé
PRIORITY:5
X-MICROSOFT-CDO-IMPORTANCE:1
CLASS:PUBLIC
END:VEVENT
END:VCALENDAR
