BEGIN:VCALENDAR
PRODID:-//kirchenweb.ch gmbh//veranstaltungsausgabe v2.0//DE
VERSION:2.0
METHOD:PUBLISH
BEGIN:VEVENT
DTSTART:20230119T180000Z
DTEND:20230119T193000Z
LOCATION:Haute-Birse\, Salle de Paroisse\, Rue Bel-Air 11\, 2732
  Reconvilier
TRANSP:OPAQUE
SEQUENCE:0
UID:8216-veranstaltung@par8.ch
DTSTAMP:20230131T075754Z
DESCRIPTION:Qui est l’autre\, le Tout-Autre? Quelle est mon identité\,
  celle du groupe auquel j’appartiens? Ces questions traversent le texte
  biblique et restent plus que jamais d’actualité.\n\nCe thème sera le
  fil rouge des rencontres au cours du premier semestre 2023. Nous
  souhaitons confronter des passages bibliques parfois problématiques avec
  des textes contemporains. Une source d’inspiration: le dernier livre de
  la rabbine Delphine Horvilleur\, Il n’y a pas de Ajar. Monologue contre
  l’identité (2022).\n\nAu programme pour cette première rencontre: la
  question du Dieu unique et des autres dieux dans Deutéronome 13\, 2-19.
 \n\nBienvenue à toutes les personnes intéressées par ce thème!\n
 \nKontakt: Thierry Dominicé\n\nWeitere Infos:
  https://www.par8.ch/veranstaltung/8216
SUMMARY:Groupe biblique de Reconvilier
PRIORITY:5
X-MICROSOFT-CDO-IMPORTANCE:1
CLASS:PUBLIC
END:VEVENT
END:VCALENDAR
