BEGIN:VCALENDAR
PRODID:-//kirchenweb.ch gmbh//veranstaltungsausgabe v2.0//DE
VERSION:2.0
METHOD:PUBLISH
BEGIN:VEVENT
DTSTART:20230131T183000Z
DTEND:20230131T210000Z
LOCATION:Moutier\, Le Foyer\, Rue du Clos 3\, 2740 Moutier
TRANSP:OPAQUE
SEQUENCE:0
UID:8202-veranstaltung@par8.ch
DTSTAMP:20230125T140831Z
DESCRIPTION:Kontakt: Natacha Houriet\n\nWeitere Infos:
  https://www.par8.ch/veranstaltung/8202
SUMMARY:Conseils
PRIORITY:5
X-MICROSOFT-CDO-IMPORTANCE:1
CLASS:PUBLIC
END:VEVENT
END:VCALENDAR
