BEGIN:VCALENDAR
PRODID:-//kirchenweb.ch gmbh//veranstaltungsausgabe v2.0//DE
VERSION:2.0
METHOD:PUBLISH
BEGIN:VEVENT
DTSTART:20230126T123000Z
DTEND:20230126T170000Z
LOCATION:Moutier\, Le Foyer\, Rue du Clos 3\, 2740 Moutier
TRANSP:OPAQUE
SEQUENCE:0
UID:8148-veranstaltung@par8.ch
DTSTAMP:20230125T134227Z
DESCRIPTION:Après-midi récréatif pour les aînés suivi d'un thé ou
  café avec une douceur\, de 14h30 à 16h00\n\n"Crocheter ou tricoter une
  éponge en fil spécial"\n\nUn service de taxi est prévue au numéro
  suivant: 032 493 41 95\n\nKontakt: Corinne Flückiger\, 079 445 92 47
 \nCéline Wäfler\, 079 657 95 88\n\nWeitere Infos:
  https://www.par8.ch/veranstaltung/8148
SUMMARY:Jeudi des aînés
PRIORITY:5
X-MICROSOFT-CDO-IMPORTANCE:1
CLASS:PUBLIC
END:VEVENT
END:VCALENDAR
