BEGIN:VCALENDAR
PRODID:-//kirchenweb.ch gmbh//veranstaltungsausgabe v2.0//DE
VERSION:2.0
METHOD:PUBLISH
BEGIN:VEVENT
DTSTART:20230123T181500Z
DTEND:20230123T220000Z
LOCATION:Grandval\, Salle de Paroisse\, Rue de l’Eglise\, 2745 Grandval
TRANSP:OPAQUE
SEQUENCE:0
UID:8122-veranstaltung@par8.ch
DTSTAMP:20230105T101625Z
DESCRIPTION:Kontakt: Natacha Houriet\n\nWeitere Infos:
  https://www.par8.ch/veranstaltung/8122
SUMMARY:Conseil
PRIORITY:5
X-MICROSOFT-CDO-IMPORTANCE:1
CLASS:PUBLIC
END:VEVENT
END:VCALENDAR
