BEGIN:VCALENDAR
PRODID:-//kirchenweb.ch gmbh//veranstaltungsausgabe v2.0//DE
VERSION:2.0
METHOD:PUBLISH
BEGIN:VEVENT
DTSTART:20230118T173000Z
DTEND:20230118T183000Z
LOCATION:Moutier\, Cure St Germain\, Rue St Germain 21\, 2740 Moutier
TRANSP:OPAQUE
SEQUENCE:0
UID:8121-veranstaltung@par8.ch
DTSTAMP:20230104T190214Z
DESCRIPTION:Répétition des chants en vue de la célébration
  oecuménique du 22.01\n\nKontakt: quentin.jeanneret@par8.ch\n\nWeitere
  Infos: https://www.par8.ch/veranstaltung/8121
SUMMARY:Célébration oecuménique à Moutier: Répétition de chants
PRIORITY:5
X-MICROSOFT-CDO-IMPORTANCE:1
CLASS:PUBLIC
END:VEVENT
END:VCALENDAR
