BEGIN:VCALENDAR
PRODID:-//kirchenweb.ch gmbh//veranstaltungsausgabe v2.0//DE
VERSION:2.0
METHOD:PUBLISH
BEGIN:VEVENT
DTSTART:20230207T110000Z
DTEND:20230207T153000Z
LOCATION:Bévilard\, Le Carillon\, Grand Rue\, 2735 Malleray
TRANSP:OPAQUE
SEQUENCE:0
UID:7945-veranstaltung@par8.ch
DTSTAMP:20221213T083439Z
DESCRIPTION:Repas et après-midi jeux\n\nKontakt: Jean-Luc Dubigny\n
 \nWeitere Infos: https://www.par8.ch/veranstaltung/7945
SUMMARY:Bévilard - Rencontres des ainés
PRIORITY:5
X-MICROSOFT-CDO-IMPORTANCE:1
CLASS:PUBLIC
END:VEVENT
END:VCALENDAR
