BEGIN:VCALENDAR
PRODID:-//kirchenweb.ch gmbh//veranstaltungsausgabe v2.0//DE
VERSION:2.0
METHOD:PUBLISH
BEGIN:VEVENT
DTSTART:20230203T173000Z
DTEND:20230203T210000Z
LOCATION:Bévilard\, Le Carillon\, Grand Rue\, 2735 Malleray
TRANSP:OPAQUE
SEQUENCE:0
UID:7943-veranstaltung@par8.ch
DTSTAMP:20230125T091357Z
DESCRIPTION:La création du monde selon la mythologie grecque\n\n\n
 \nKontakt: isabelle.girod@par8.ch\n\nWeitere Infos:
  https://www.par8.ch/veranstaltung/7943
SUMMARY:Soirée arc-en-ciel
PRIORITY:5
X-MICROSOFT-CDO-IMPORTANCE:1
CLASS:PUBLIC
END:VEVENT
END:VCALENDAR
