BEGIN:VCALENDAR
PRODID:-//kirchenweb.ch gmbh//veranstaltungsausgabe v2.0//DE
VERSION:2.0
METHOD:PUBLISH
BEGIN:VEVENT
DTSTART:20230212T090000Z
DTEND:20230212T100000Z
LOCATION:Grandval. Eglise\, Rue de l’Eglise\, 2745 Grandval
TRANSP:OPAQUE
SEQUENCE:0
UID:7758-veranstaltung@par8.ch
DTSTAMP:20230125T145619Z
DESCRIPTION:Kontakt: Liliane Gujer\n\nWeitere Infos:
  https://www.par8.ch/veranstaltung/7758
SUMMARY:Culte du dimanche de l'Eglise au temple de Grandval
PRIORITY:5
X-MICROSOFT-CDO-IMPORTANCE:1
CLASS:PUBLIC
END:VEVENT
END:VCALENDAR
