BEGIN:VCALENDAR
PRODID:-//kirchenweb.ch gmbh//veranstaltungsausgabe v2.0//DE
VERSION:2.0
METHOD:PUBLISH
BEGIN:VEVENT
DTSTART:20230212T090000Z
DTEND:20230212T100000Z
LOCATION:Court\, Eglise\, Rue du Temple\, 2738 Court
TRANSP:OPAQUE
SEQUENCE:0
UID:7757-veranstaltung@par8.ch
DTSTAMP:20230201T152533Z
DESCRIPTION:Kontakt: Jean Lesort Louck Talom\n\nWeitere Infos:
  https://www.par8.ch/veranstaltung/7757
SUMMARY:Culte au temple de Court
PRIORITY:5
X-MICROSOFT-CDO-IMPORTANCE:1
CLASS:PUBLIC
END:VEVENT
END:VCALENDAR
