BEGIN:VCALENDAR
PRODID:-//kirchenweb.ch gmbh//veranstaltungsausgabe v2.0//DE
VERSION:2.0
METHOD:PUBLISH
BEGIN:VEVENT
DTSTART:20230212T090000Z
DTEND:20230212T100000Z
LOCATION:Haute-Birse\, Eglise de Chaindon\, Route de Chaindon\, 2732
  Reconvilier
TRANSP:OPAQUE
SEQUENCE:0
UID:7756-veranstaltung@par8.ch
DTSTAMP:20230202T091445Z
DESCRIPTION:Kontakt: Jean-Luc Dubigny\n\nWeitere Infos:
  https://www.par8.ch/veranstaltung/7756
SUMMARY:Culte à l’église de Chaindon
PRIORITY:5
X-MICROSOFT-CDO-IMPORTANCE:1
CLASS:PUBLIC
END:VEVENT
END:VCALENDAR
