BEGIN:VCALENDAR
PRODID:-//kirchenweb.ch gmbh//veranstaltungsausgabe v2.0//DE
VERSION:2.0
METHOD:PUBLISH
BEGIN:VEVENT
DTSTART:20230212T090000Z
DTEND:20230212T100000Z
LOCATION:Tramelan\, Eglise\, Grand-Rue 146\, 2720 Tramelan
TRANSP:OPAQUE
SEQUENCE:0
UID:7755-veranstaltung@par8.ch
DTSTAMP:20230207T105413Z
DESCRIPTION:Kontakt: Service de taxi : 079 717 05 39 (appel le dimanche
  matin entre 8h et 9h)\n\nWeitere Infos:
  https://www.par8.ch/veranstaltung/7755
SUMMARY:Culte à l'église de Tramelan
PRIORITY:5
X-MICROSOFT-CDO-IMPORTANCE:1
CLASS:PUBLIC
END:VEVENT
END:VCALENDAR
