BEGIN:VCALENDAR
PRODID:-//kirchenweb.ch gmbh//veranstaltungsausgabe v2.0//DE
VERSION:2.0
METHOD:PUBLISH
BEGIN:VEVENT
DTSTART:20230205T090000Z
DTEND:20230205T100000Z
LOCATION:Bévilard\, Temple\, Rue du Temple\, 2735 Bévilard
TRANSP:OPAQUE
SEQUENCE:0
UID:7753-veranstaltung@par8.ch
DTSTAMP:20230202T094553Z
DESCRIPTION:Kontakt: Jean-Luc Dubigny\n\nWeitere Infos:
  https://www.par8.ch/veranstaltung/7753
SUMMARY:Culte du dimanche de l’Église au temple de Bévilard
PRIORITY:5
X-MICROSOFT-CDO-IMPORTANCE:1
CLASS:PUBLIC
END:VEVENT
END:VCALENDAR
