BEGIN:VCALENDAR
PRODID:-//kirchenweb.ch gmbh//veranstaltungsausgabe v2.0//DE
VERSION:2.0
METHOD:PUBLISH
BEGIN:VEVENT
DTSTART:20230205T090000Z
DTEND:20230205T100000Z
LOCATION:Haute-Birse\, Eglise\, Rue du Petit-Bâle\, 2710 Tavannes
TRANSP:OPAQUE
SEQUENCE:0
UID:7752-veranstaltung@par8.ch
DTSTAMP:20230202T115039Z
DESCRIPTION:Culte animé par quatre paroissiennes\, suivi d’un
  apéritif.\n\nKontakt: Thierry Dominicé\n\nWeitere Infos:
  https://www.par8.ch/veranstaltung/7752
SUMMARY:Culte du dimanche de l’Église à Tavannes
PRIORITY:5
X-MICROSOFT-CDO-IMPORTANCE:1
CLASS:PUBLIC
END:VEVENT
END:VCALENDAR
