BEGIN:VCALENDAR
PRODID:-//kirchenweb.ch gmbh//veranstaltungsausgabe v2.0//DE
VERSION:2.0
METHOD:PUBLISH
BEGIN:VEVENT
DTSTART:20230205T090000Z
DTEND:20230205T100000Z
LOCATION:Tramelan\, Eglise\, Grand-Rue 146\, 2720 Tramelan
TRANSP:OPAQUE
SEQUENCE:0
UID:7751-veranstaltung@par8.ch
DTSTAMP:20230202T163126Z
DESCRIPTION:Kontakt: Service de taxi: 032 487 46 75 (appel le dimanche
  matin entre 8h et 9h)\n\nWeitere Infos:
  https://www.par8.ch/veranstaltung/7751
SUMMARY:Culte du dimanche de l’Église à l’église de Tramelan
PRIORITY:5
X-MICROSOFT-CDO-IMPORTANCE:1
CLASS:PUBLIC
END:VEVENT
END:VCALENDAR
