BEGIN:VCALENDAR
PRODID:-//kirchenweb.ch gmbh//veranstaltungsausgabe v2.0//DE
VERSION:2.0
METHOD:PUBLISH
BEGIN:VEVENT
DTSTART:20230129T090000Z
DTEND:20230129T100000Z
LOCATION:Haute-Birse\, Chapelle du Fuet\, Route de la chapelle\, 2712 Le
  Fuet
TRANSP:OPAQUE
SEQUENCE:0
UID:7750-veranstaltung@par8.ch
DTSTAMP:20230124T090255Z
DESCRIPTION:Kontakt: \n\nWeitere Infos:
  https://www.par8.ch/veranstaltung/7750
SUMMARY:Culte à la chapelle du Fuet
PRIORITY:5
X-MICROSOFT-CDO-IMPORTANCE:1
CLASS:PUBLIC
END:VEVENT
END:VCALENDAR
