BEGIN:VCALENDAR
PRODID:-//kirchenweb.ch gmbh//veranstaltungsausgabe v2.0//DE
VERSION:2.0
METHOD:PUBLISH
BEGIN:VEVENT
DTSTART:20230129T090000Z
DTEND:20230129T100000Z
LOCATION:Court\, Temple\, \, 2738 Court
TRANSP:OPAQUE
SEQUENCE:0
UID:7748-veranstaltung@par8.ch
DTSTAMP:20230128T115825Z
DESCRIPTION:Kontakt: Jean-Luc Dubigny\n\nWeitere Infos:
  https://www.par8.ch/veranstaltung/7748
SUMMARY:Culte au temple de Court
PRIORITY:5
X-MICROSOFT-CDO-IMPORTANCE:1
CLASS:PUBLIC
END:VEVENT
END:VCALENDAR
