BEGIN:VCALENDAR
PRODID:-//kirchenweb.ch gmbh//veranstaltungsausgabe v2.0//DE
VERSION:2.0
METHOD:PUBLISH
BEGIN:VEVENT
DTSTART:20230129T180000Z
DTEND:20230129T190000Z
LOCATION:Tramelan\, Eglise\, Grand-Rue 146\, 2720 Tramelan
TRANSP:OPAQUE
SEQUENCE:0
UID:7747-veranstaltung@par8.ch
DTSTAMP:20230202T163007Z
DESCRIPTION:Kontakt: Service de taxi : 032 487 57 64 (appel le le jour
  même entre 16h et 17h)\n\nWeitere Infos:
  https://www.par8.ch/veranstaltung/7747
SUMMARY:Culte de bienvenue de J. L. Louck Talom et d'adieu de Ph.
  Kneubühler à l'église de Tramelan
PRIORITY:5
X-MICROSOFT-CDO-IMPORTANCE:1
CLASS:PUBLIC
END:VEVENT
END:VCALENDAR
