BEGIN:VCALENDAR
PRODID:-//kirchenweb.ch gmbh//veranstaltungsausgabe v2.0//DE
VERSION:2.0
METHOD:PUBLISH
BEGIN:VEVENT
DTSTART:20230122T090000Z
DTEND:20230122T100000Z
LOCATION:Moutier\, Collégiale St Germain\, Ruelle du Château\, 2740
  Moutier
TRANSP:OPAQUE
SEQUENCE:0
UID:7746-veranstaltung@par8.ch
DTSTAMP:20230121T154210Z
DESCRIPTION:Kontakt: Quentin Jeanneret\n\nWeitere Infos:
  https://www.par8.ch/veranstaltung/7746
SUMMARY:Célébration œcuménique à la Collégiale de Moutier
PRIORITY:5
X-MICROSOFT-CDO-IMPORTANCE:1
CLASS:PUBLIC
END:VEVENT
END:VCALENDAR
