BEGIN:VCALENDAR
PRODID:-//kirchenweb.ch gmbh//veranstaltungsausgabe v2.0//DE
VERSION:2.0
METHOD:PUBLISH
BEGIN:VEVENT
DTSTART:20230122T090000Z
DTEND:20230122T100000Z
LOCATION:Eglise catholique\, Place de la Gare\, 2735 Malleray
TRANSP:OPAQUE
SEQUENCE:0
UID:7745-veranstaltung@par8.ch
DTSTAMP:20230121T154107Z
DESCRIPTION:Kontakt: \n\nWeitere Infos:
  https://www.par8.ch/veranstaltung/7745
SUMMARY:Célébration œcuménique à l'église de Malleray
PRIORITY:5
X-MICROSOFT-CDO-IMPORTANCE:1
CLASS:PUBLIC
END:VEVENT
END:VCALENDAR
