BEGIN:VCALENDAR
PRODID:-//kirchenweb.ch gmbh//veranstaltungsausgabe v2.0//DE
VERSION:2.0
METHOD:PUBLISH
BEGIN:VEVENT
DTSTART:20230122T090000Z
DTEND:20230122T100000Z
LOCATION:Tramelan\, Eglise\, Grand-Rue 146\, 2720 Tramelan
TRANSP:OPAQUE
SEQUENCE:0
UID:7743-veranstaltung@par8.ch
DTSTAMP:20230202T162902Z
DESCRIPTION:Semaine de prière pour l'Unité des Chrétiens\n\nKontakt:
  Service de taxi : 032 487 60 66 (appel le dimanche matin entre 8h et 9h)
 \n\nWeitere Infos: https://www.par8.ch/veranstaltung/7743
SUMMARY:Célébration œcuménique à l'église de Tramelan
PRIORITY:5
X-MICROSOFT-CDO-IMPORTANCE:1
CLASS:PUBLIC
END:VEVENT
END:VCALENDAR
