BEGIN:VCALENDAR
PRODID:-//kirchenweb.ch gmbh//veranstaltungsausgabe v2.0//DE
VERSION:2.0
METHOD:PUBLISH
BEGIN:VEVENT
DTSTART:20230124T183000Z
DTEND:20230124T203000Z
LOCATION:Bévilard\, Salle de Paroisse\, Les Côtes 1\, 2735 Bévilard
TRANSP:OPAQUE
SEQUENCE:0
UID:7497-veranstaltung@par8.ch
DTSTAMP:20221031T134315Z
DESCRIPTION:Le groupe lecture de Bévilard vous propose le roman "Il nous
  restera ça" de Virginie Grimaldi pour la saison 2022-2023. Virginie
  Grimaldi possède un talent inégalé pour nous faire passer du rire aux
  larmes et nous conter la vie avec justesse et sensiblité. Un roman qui
  se lit très facilement mais pas que... les thèmes de réflexions sont
  multiples.\n\nLa première rencontre est prévue le mardi 24 janvier
  2023. Si vous désirez rejoindre le groupe\, vous pouvez vous annoncer à
  Claudine Bassin (079 506 93 44).\n\nKontakt: isabelle.girod@par8.ch\n
 \nWeitere Infos: https://www.par8.ch/veranstaltung/7497
SUMMARY:Groupe lecture
PRIORITY:5
X-MICROSOFT-CDO-IMPORTANCE:1
CLASS:PUBLIC
END:VEVENT
END:VCALENDAR
