BEGIN:VCALENDAR
PRODID:-//kirchenweb.ch gmbh//veranstaltungsausgabe v2.0//DE
VERSION:2.0
METHOD:PUBLISH
BEGIN:VEVENT
DTSTART:20230205T160000Z
DTEND:20230205T170000Z
LOCATION:Tramelan\, Eglise\, Grand-Rue 146\, 2720 Tramelan
TRANSP:OPAQUE
SEQUENCE:0
UID:7344-veranstaltung@par8.ch
DTSTAMP:20230220T125957Z
DESCRIPTION:Kontakt: Ecole de musique du jura bernois\nTél. 032 941 23 51
 \n\nWeitere Infos: https://www.par8.ch/veranstaltung/7344
SUMMARY:Ecole de Musique - Concert des jeunes cordes
PRIORITY:5
X-MICROSOFT-CDO-IMPORTANCE:1
CLASS:PUBLIC
END:VEVENT
END:VCALENDAR
