BEGIN:VCALENDAR
PRODID:-//kirchenweb.ch gmbh//veranstaltungsausgabe v2.0//DE
VERSION:2.0
METHOD:PUBLISH
BEGIN:VEVENT
DTSTART:20230128T083000Z
DTEND:20230128T100000Z
LOCATION:2745 Grandval\, Rue de l'Eglise 13\, 2745 Grandval
TRANSP:OPAQUE
SEQUENCE:0
UID:7078-veranstaltung@par8.ch
DTSTAMP:20220908T074500Z
DESCRIPTION:Le Thème de cette année: Arrosons notre foi.\n\nL'éveil à
  la foi est une approche de la vie avec les autres\, avec la nature et
  avec Dieu proposée par le Par8 et destiné aux tout-petits et à leurs
  parents.\n\nComment\, avec des mots simples\, s'émerveiller des
  réalités de la foi et de la vie\, d'une manière ouverte et
  tolérante\, respectueuse du développement de l'enfant et de leur
  personne\, tout en associant les parents\, les grand-e-s frères et
  sœurs et les autres membres de la famille présente.\n\nPar des récits
  bibliques\, par des animations ludiques et créatives\, par des temps de
  célébrations\, les enfants et les familles pourront ensemble se
  ressourcer et se rafraîchir.\n\nNotre but est avant tout de
  s'émerveiller des cadeaux de Dieu et découvrir ensemble la vie avec la
  fraîcheur que nous apporte les tout-petits.\n\n\n\n\n\n\n\n\n\nKontakt:
  Jean-Luc Dubigny\nLiliane Gujer\n\nWeitere Infos:
  https://www.par8.ch/veranstaltung/7078
SUMMARY:Eveil à la foi
PRIORITY:5
X-MICROSOFT-CDO-IMPORTANCE:1
CLASS:PUBLIC
END:VEVENT
END:VCALENDAR
