BEGIN:VCALENDAR
PRODID:-//kirchenweb.ch gmbh//veranstaltungsausgabe v2.0//DE
VERSION:2.0
METHOD:PUBLISH
BEGIN:VEVENT
DTSTART:20230212T100000Z
DTEND:20230212T110000Z
LOCATION:Haute-Birse\, Eglise de Tavannes\, \,
TRANSP:OPAQUE
SEQUENCE:0
UID:7072-veranstaltung@par8.ch
DTSTAMP:20220907T092643Z
DESCRIPTION:Kontakt: Mme Heidi Gremion\n\nWeitere Infos:
  https://www.par8.ch/veranstaltung/7072
SUMMARY:Haute-Birse\, culte de la communauté des sourds et malentendants
PRIORITY:5
X-MICROSOFT-CDO-IMPORTANCE:1
CLASS:PUBLIC
END:VEVENT
END:VCALENDAR
