BEGIN:VCALENDAR
PRODID:-//kirchenweb.ch gmbh//veranstaltungsausgabe v2.0//DE
VERSION:2.0
METHOD:PUBLISH
BEGIN:VEVENT
DTSTART:20230207T083000Z
DTEND:20230207T100000Z
LOCATION:Grandval\, Salle de Paroisse\, Rue de l’Eglise\, 2745 Grandval
TRANSP:OPAQUE
SEQUENCE:0
UID:6759-veranstaltung@par8.ch
DTSTAMP:20221218T101047Z
DESCRIPTION:Liliane Gujer\, notre pasteure\, vous accueille pour un moment
  spontané de partage autour d'un thème\, accompagné d'un café ou d'un
  thé.\n\nKontakt: Liliane Gujer\n\nWeitere Infos:
  https://www.par8.ch/veranstaltung/6759
SUMMARY:Accueil & Partage
PRIORITY:5
X-MICROSOFT-CDO-IMPORTANCE:1
CLASS:PUBLIC
END:VEVENT
END:VCALENDAR
