BEGIN:VCALENDAR
PRODID:-//kirchenweb.ch gmbh//veranstaltungsausgabe v2.0//DE
VERSION:2.0
METHOD:PUBLISH
BEGIN:VEVENT
DTSTART:20230202T180000Z
DTEND:20230202T210000Z
LOCATION:Moutier\, Le Foyer\, Rue du Clos 3\, 2740 Moutier
TRANSP:OPAQUE
SEQUENCE:0
UID:6580-veranstaltung@par8.ch
DTSTAMP:20220613T091009Z
DESCRIPTION:La troupe a été créé par Pierre Paroz\, dans la
  continuité des groupes de jeunes organisés par la paroisse. Le but
  était de créer une troupe de théâtre amateur et un espace de
  rencontres et de partage pour les jeunes. Et c’est toujours le cas !
  Nous ne sommes plus liés à la paroisse\, mais nous sommes toujours une
  troupe de théâtre\, et surtout un groupe d’amis qui partagent de
  chouettes  moments ensemble.\n\nKontakt: Céline Ryf\n\nWeitere Infos:
  https://www.par8.ch/veranstaltung/6580
SUMMARY:Théâtre du Parpaillot
PRIORITY:5
X-MICROSOFT-CDO-IMPORTANCE:1
CLASS:PUBLIC
END:VEVENT
END:VCALENDAR
