BEGIN:VCALENDAR
PRODID:-//kirchenweb.ch gmbh//veranstaltungsausgabe v2.0//DE
VERSION:2.0
METHOD:PUBLISH
BEGIN:VEVENT
DTSTART:20230118T150000Z
DTEND:20230118T170000Z
LOCATION:Haute-Birse\, Maison de Paroisse de Tavannes\, Rue du Petit-Bâle
  25\, 2710 Tavannes
TRANSP:OPAQUE
SEQUENCE:0
UID:6555-veranstaltung@par8.ch
DTSTAMP:20220609T195630Z
DESCRIPTION:Collation\nChacune des rencontres débute par un temps de
  collation qui sera\npréparée par nos soins. Merci de nous communiquer
  les éventuelles\nallergies.\n\nAbsences\nEn cas d’absence\, MERCI
  d’avertir l’une des responsables\n\nKontakt: Céline Ryf\,
  celine.ryf@par8.ch\, 076 436 60 65\nou\n\n\nWeitere Infos:
  https://www.par8.ch/veranstaltung/6555
SUMMARY:Catéchisme 7H Haut
PRIORITY:5
X-MICROSOFT-CDO-IMPORTANCE:1
CLASS:PUBLIC
END:VEVENT
END:VCALENDAR
