BEGIN:VCALENDAR
PRODID:-//kirchenweb.ch gmbh//veranstaltungsausgabe v2.0//DE
VERSION:2.0
METHOD:PUBLISH
BEGIN:VEVENT
DTSTART:20230118T154500Z
DTEND:20230118T190000Z
LOCATION:Court\, Salle de Paroisse\, La Cure 2\, 2738 Court
TRANSP:OPAQUE
SEQUENCE:0
UID:6540-veranstaltung@par8.ch
DTSTAMP:20220609T125841Z
DESCRIPTION:Pique-nique :\nSauf indication contraire\, votre enfant aura
  besoin d’un pique-nique pour chaque rencontre.\nAbsences :\nLa
  participation à chaque rencontre est importante. Néanmoins\, en cas de
  force majeure\, merci d’avertir l’un des responsables\n\nKontakt: \n
 \nWeitere Infos: https://www.par8.ch/veranstaltung/6540
SUMMARY:Catéchisme 11H bas
PRIORITY:5
X-MICROSOFT-CDO-IMPORTANCE:1
CLASS:PUBLIC
END:VEVENT
END:VCALENDAR
