BEGIN:VCALENDAR
PRODID:-//kirchenweb.ch gmbh//veranstaltungsausgabe v2.0//DE
VERSION:2.0
METHOD:PUBLISH
BEGIN:VEVENT
DTSTART:20230201T154500Z
DTEND:20230201T190000Z
LOCATION:Le Foyer \, \, 2740 Moutier
TRANSP:OPAQUE
SEQUENCE:0
UID:6204-veranstaltung@par8.ch
DTSTAMP:20230130T144631Z
DESCRIPTION:"Prier et Célébrer"\n\nPique-nique :\nSauf indication
  contraire\, votre enfant aura besoin d’un pique-nique pour chaque
  rencontre.\nAbsences :\nLa participation à chaque rencontre est
  importante. Néanmoins\, en cas de force majeure\, merci d’avertir
  l’un des responsables\n\nKontakt: sandra.schneeberger@par8.ch\n
 \nWeitere Infos: https://www.par8.ch/veranstaltung/6204
SUMMARY:Catéchisme 10H bas
PRIORITY:5
X-MICROSOFT-CDO-IMPORTANCE:1
CLASS:PUBLIC
END:VEVENT
END:VCALENDAR
