BEGIN:VCALENDAR
PRODID:-//kirchenweb.ch gmbh//veranstaltungsausgabe v2.0//DE
VERSION:2.0
METHOD:PUBLISH
BEGIN:VEVENT
DTSTART:20230201T150000Z
DTEND:20230201T170000Z
LOCATION:Moutier\, Cure St Germain\, Rue St Germain 21\, 2740 Moutier
TRANSP:OPAQUE
SEQUENCE:0
UID:5883-veranstaltung@par8.ch
DTSTAMP:20220221T162956Z
DESCRIPTION:Collation\nChacune des rencontres débute par un temps de
  collation qui sera\npréparée par nos soins. Merci de nous communiquer
  les éventuelles\nallergies.\n\nAbsences\nEn cas d’absence\, MERCI
  d’avertir l’une des responsables\n\nKontakt: Séverine Fertig\n
 \nCéline Ryf\n\nWeitere Infos: https://www.par8.ch/veranstaltung/5883
SUMMARY:Catéchisme 9H bas
PRIORITY:5
X-MICROSOFT-CDO-IMPORTANCE:1
CLASS:PUBLIC
END:VEVENT
END:VCALENDAR
