BEGIN:VCALENDAR
PRODID:-//kirchenweb.ch gmbh//veranstaltungsausgabe v2.0//DE
VERSION:2.0
METHOD:PUBLISH
BEGIN:VEVENT
DTSTART:20270407T060000Z
DTEND:20270407T180000Z
LOCATION:Haute-Birse\, Maison de Paroisse de Tavannes\, Rue du Petit-Bâle
  25\, 2710 Tavannes
TRANSP:OPAQUE
SEQUENCE:0
UID:17478-veranstaltung@par8.ch
DTSTAMP:20260415T071339Z
DESCRIPTION:Kontakt: Mme Caroline Witschi au 076 580 01 06\nou\nMme
  Florence Bonnet au 079 548 11 27\n\nWeitere Infos:
  https://www.par8.ch/veranstaltung/17478
SUMMARY:Haute-Birse\, Tavakids 2027
PRIORITY:5
X-MICROSOFT-CDO-IMPORTANCE:1
CLASS:PUBLIC
END:VEVENT
END:VCALENDAR
